BEGIN:VCALENDAR
VERSION:2.0
PRODID:-//TechLeaders - ECPv4.9.8//NONSGML v1.0//EN
CALSCALE:GREGORIAN
METHOD:PUBLISH
X-WR-CALNAME:TechLeaders
X-ORIGINAL-URL:https://techleaders.nz
X-WR-CALDESC:Events for TechLeaders
BEGIN:VTIMEZONE
TZID:Pacific/Auckland
BEGIN:STANDARD
TZOFFSETFROM:+1300
TZOFFSETTO:+1200
TZNAME:NZST
DTSTART:20190406T140000
END:STANDARD
BEGIN:DAYLIGHT
TZOFFSETFROM:+1200
TZOFFSETTO:+1300
TZNAME:NZDT
DTSTART:20190928T140000
END:DAYLIGHT
END:VTIMEZONE
BEGIN:VEVENT
DTSTART;TZID="Pacific/Auckland":20191217T150000
DTEND;TZID="Pacific/Auckland":20191217T190000
DTSTAMP:20191223T051323
CREATED:20191127T020050Z
LAST-MODIFIED:20191217T195445Z
UID:3849-1576594800-1576609200@techleaders.nz
SUMMARY:Tech Sector Manifesto Workshop & Christmas Drinks
DESCRIPTION:An invitation only Workshop and Christmas Drinks for TechLeader Executive Members. \nPlease contact us if you have any queries about this event. \n
URL:https://techleaders.nz/event/tech-sector-manifesto-workshop-christmas-drinks-2/
LOCATION:Wellington\, Wellington\, New Zealand
CATEGORIES:Wellington Events
ATTACH;FMTTYPE=image/jpeg:https://techleaders.nz/wp-content/uploads/sites/10/2019/03/techleaders-luncheon1.jpg
GEO:-41.2864603;174.776236
END:VEVENT
END:VCALENDAR